BEGIN:VCALENDAR
VERSION:2.0
PRODID:-//ExpressionEngine Easy iCalendar plugin//NONSGML v2.0.1//EN
X-WR-TIMEZONE:America/New_York
X-WR-CALNAME:Upcoming Auctions
BEGIN:VEVENT
UID:33263
DTSTAMP:20181206T130000
DTSTART:20181206T130000
DTEND:20181206T140000
SUMMARY:10 + Acre Land Auction in Monroe\, VA
LOCATION:3371 S Amherst Hwy\, Monroe\, VA 24574\, US
DESCRIPTION:INVESTMENT OPPORTUNITY. 10.476 +/- Acres Being Sold on Rt 29
  in Monroe\, VA. Access to County Water and Over 400 ft of Ro
 ad Frontage on Rt 29. 3 Acres zoning Commercial/Industrial a
 nd 7.476 Acres zoning Residential. 2 Parcels Being Sold Toge
 ther!
URL:https://www.wattsara.com/auctions/detail/10-acre-land-auctio
 n-in-monroe-va-bw33263
SEQUENCE:1
END:VEVENT
END:VCALENDAR