BEGIN:VCALENDAR
VERSION:2.0
PRODID:-//ExpressionEngine Easy iCalendar plugin//NONSGML v2.0.1//EN
X-WR-TIMEZONE:America/New_York
X-WR-CALNAME:Upcoming Auctions
BEGIN:VEVENT
UID:103542
DTSTAMP:20230706T050000
DTSTART:20230706T050000
DTEND:20230821T180000
SUMMARY:Elvis\, M&M\, Scaled Cars & Collectible Auction Lynchburg VA
LOCATION:403 Atlanta Ave\, Lynchburg\, VA 24502\, US
DESCRIPTION:**ONLINE ONLY AUCTION** Elvis\, M&M\, Scaled Cars & Collectibl
 e Auction Lynchburg VA Auction Date: Starts To Close 3 Lots
  Per Minute on Monday\, August 21st\, at 6:00 PM Auction Locat
 ion: 403 Atlanta Ave Lynchburg\, VA 24502
URL:https://www.wattsara.com/auctions/detail/bw103542
SEQUENCE:1
END:VEVENT
END:VCALENDAR