BEGIN:VCALENDAR
VERSION:2.0
PRODID:-//ExpressionEngine Easy iCalendar plugin//NONSGML v2.0.1//EN
X-WR-TIMEZONE:America/New_York
X-WR-CALNAME:Upcoming Auctions
BEGIN:VEVENT
UID:134983
DTSTAMP:20250329T100000
DTSTART:20250329T100000
DTEND:20250329T110000
SUMMARY:Spring Equipment Auction
LOCATION:8446 Wards Rd\, Rustburg\, VA 24588\, US
DESCRIPTION:SPRING EQUIPMENT CONSIGNMENT AUCTION - Live and Online! MAS
 SIVE EQUIPMENT CONSIGNMENT AUCTION - WATTS AUCTION YARD ! Ma
 rch 29th 2025 at 10:00 AM in Rustburg\, VA 8446 Wards Rd Rust
 burg\, VA 24588 SEEKING: Agricultural Equipment\, Heavy Equip
 ment\, Construction Equipment and Tools\, Vehicles\, Trucks\, Tr
 ailers\, and Powersports CALL US TO CONSIGN TODAY!  Auctione
 er/ Auction Coordinator-Rich H- (Cell Phone) 570-301-7830 Au
 ctioneer/ Auction Coordinator-Collin W- (Cell Phone) 540-52
 5-6451 LETS FILL THE LOT!!
URL:https://www.wattsara.com/auctions/detail/bw134983
SEQUENCE:1
END:VEVENT
END:VCALENDAR