BEGIN:VCALENDAR
VERSION:2.0
PRODID:-//ExpressionEngine Easy iCalendar plugin//NONSGML v2.0.0//EN
X-WR-TIMEZONE:America/New_York
X-WR-CALNAME:Upcoming Auctions
BEGIN:VEVENT
UID:157679
DTSTAMP:20260227T120000
DTSTART:20260227T120000
DTEND:20260422T130000
SUMMARY:Double Wide -Rustburg Va
LOCATION:Rustburg\, Rustburg\, VA 24588\, US
DESCRIPTION:***UP COMING AUCTION*** ONLINE & LIVE AUCTION Double Wide -R
 ustburg Va  Double Wide Must BE Moved off Property  Auctio
 n Location: Rustburg Virginia 24588 Auction Starts to Close:
  May 06\, 2026 @ 01:00 PM  Preview Date: Call For Preview Pi
 ck Up Date:  You will have 60 Days for removal of the mobi
 le home upon completion of auction.
URL:https://www.wattsara.com/auctions/detail/bw157679
SEQUENCE:1
END:VEVENT
END:VCALENDAR