BEGIN:VCALENDAR
VERSION:2.0
PRODID:-//ExpressionEngine Easy iCalendar plugin//NONSGML v2.0.1//EN
X-WR-TIMEZONE:America/Indiana/Indianapolis
X-WR-CALNAME:Upcoming Auctions
BEGIN:VEVENT
UID:158669
DTSTAMP:20260316T114700
DTSTART:20260316T114700
DTEND:20260625T180000
SUMMARY:Rustburg personal property Auction
LOCATION:8446 wards rd\, Rustburg \, VA 24588\, US
DESCRIPTION:Rustburg personal property Auction Pokémon Cards\, Baseball 
 Cards\, Collector Model Cars\, Tools\, Collectibles\, Nascar\, Fu
 rniture\, Housewares\, & so Much More  Auction Starts to Clos
 es: Thursday June 25th 3036 @ 6pm  Auction Preview: Wednesd
 ay June 24th 2-5pm  Auction Pick up:  Friday June 26th fr
 om 1-6pm 
URL:https://www.wattsara.com/auctions/detail/bw158669
SEQUENCE:1
END:VEVENT
END:VCALENDAR