BEGIN:VCALENDAR
VERSION:2.0
PRODID:-//ExpressionEngine Easy iCalendar plugin//NONSGML v2.0.1//EN
X-WR-TIMEZONE:America/New_York
X-WR-CALNAME:Upcoming Auctions
BEGIN:VEVENT
UID:48817
DTSTAMP:20200326T170000
DTSTART:20200326T170000
DTEND:20200416T235900
SUMMARY:ONLINE ONLY AUCTION - PERSONAL PROPERTY
LOCATION:318 MOUNTAIN LAUREL DR\, RUSTBURG\, VA 24588\, US
DESCRIPTION:ONLINE ONLY AUCTION - PERSONAL PROPERTY. EVERYTHING MUST GO!
URL:https://www.wattsara.com/auctions/detail/bw48817
SEQUENCE:1
END:VEVENT
END:VCALENDAR