BEGIN:VCALENDAR
VERSION:2.0
PRODID:-//ExpressionEngine Easy iCalendar plugin//NONSGML v2.0.1//EN
X-WR-TIMEZONE:America/New_York
X-WR-CALNAME:Upcoming Auctions
BEGIN:VEVENT
UID:36890
DTSTAMP:20190306T120000
DTSTART:20190306T120000
DTEND:20190320T120000
SUMMARY:ONLINE BOAT/JET SKI AUCTION
LOCATION:7661 Wards Road\, Rustburg\, VA 24588\, US
DESCRIPTION:ONLINE BOAT/JET SKI AUCTION!
URL:https://www.wattsara.com/auctions/detail/online-boat-jet-ski
 -auction-bw36890
SEQUENCE:1
END:VEVENT
END:VCALENDAR